BEGIN:VCALENDAR
VERSION:2.0
PRODID:-//Muskego Woman&#039;s Club - ECPv6.15.20//NONSGML v1.0//EN
CALSCALE:GREGORIAN
METHOD:PUBLISH
X-WR-CALNAME:Muskego Woman&#039;s Club
X-ORIGINAL-URL:https://muskegowomansclub.org
X-WR-CALDESC:Events for Muskego Woman&#039;s Club
REFRESH-INTERVAL;VALUE=DURATION:PT1H
X-Robots-Tag:noindex
X-PUBLISHED-TTL:PT1H
BEGIN:VTIMEZONE
TZID:America/Chicago
BEGIN:DAYLIGHT
TZOFFSETFROM:-0600
TZOFFSETTO:-0500
TZNAME:CDT
DTSTART:20250309T080000
END:DAYLIGHT
BEGIN:STANDARD
TZOFFSETFROM:-0500
TZOFFSETTO:-0600
TZNAME:CST
DTSTART:20251102T070000
END:STANDARD
BEGIN:DAYLIGHT
TZOFFSETFROM:-0600
TZOFFSETTO:-0500
TZNAME:CDT
DTSTART:20260308T080000
END:DAYLIGHT
BEGIN:STANDARD
TZOFFSETFROM:-0500
TZOFFSETTO:-0600
TZNAME:CST
DTSTART:20261101T070000
END:STANDARD
BEGIN:DAYLIGHT
TZOFFSETFROM:-0600
TZOFFSETTO:-0500
TZNAME:CDT
DTSTART:20270314T080000
END:DAYLIGHT
BEGIN:STANDARD
TZOFFSETFROM:-0500
TZOFFSETTO:-0600
TZNAME:CST
DTSTART:20271107T070000
END:STANDARD
END:VTIMEZONE
BEGIN:VEVENT
DTSTART;TZID=America/Chicago:20261101T090000
DTEND;TZID=America/Chicago:20261101T153000
DTSTAMP:20260419T170658
CREATED:20180903T072245Z
LAST-MODIFIED:20260215T172043Z
UID:449-1793523600-1793547000@muskegowomansclub.org
SUMMARY:Peppermint Fair at Bay Lane School
DESCRIPTION:Come… start your Holiday season with us.  We have fantastic raffle prizes which promise to become family treasures or memory makers.  Don’t go too far – your taste buds will call you to a bake sale of tantalizing homemade items to share with your family or to munch as you traverse the Fair.
URL:https://muskegowomansclub.org/event/peppermint-craft-fair-at-bay-lane-school/
LOCATION:Bay Lane School\, S75W16399 Hilltop Dr\, Muskego\, WI\, 53150\, United States
CATEGORIES:Public
END:VEVENT
END:VCALENDAR