BEGIN:VCALENDAR
VERSION:2.0
PRODID:-//Muskego Woman&#039;s Club - ECPv6.15.20//NONSGML v1.0//EN
CALSCALE:GREGORIAN
METHOD:PUBLISH
X-WR-CALNAME:Muskego Woman&#039;s Club
X-ORIGINAL-URL:https://muskegowomansclub.org
X-WR-CALDESC:Events for Muskego Woman&#039;s Club
REFRESH-INTERVAL;VALUE=DURATION:PT1H
X-Robots-Tag:noindex
X-PUBLISHED-TTL:PT1H
BEGIN:VTIMEZONE
TZID:America/Chicago
BEGIN:DAYLIGHT
TZOFFSETFROM:-0600
TZOFFSETTO:-0500
TZNAME:CDT
DTSTART:20250309T080000
END:DAYLIGHT
BEGIN:STANDARD
TZOFFSETFROM:-0500
TZOFFSETTO:-0600
TZNAME:CST
DTSTART:20251102T070000
END:STANDARD
BEGIN:DAYLIGHT
TZOFFSETFROM:-0600
TZOFFSETTO:-0500
TZNAME:CDT
DTSTART:20260308T080000
END:DAYLIGHT
BEGIN:STANDARD
TZOFFSETFROM:-0500
TZOFFSETTO:-0600
TZNAME:CST
DTSTART:20261101T070000
END:STANDARD
BEGIN:DAYLIGHT
TZOFFSETFROM:-0600
TZOFFSETTO:-0500
TZNAME:CDT
DTSTART:20270314T080000
END:DAYLIGHT
BEGIN:STANDARD
TZOFFSETFROM:-0500
TZOFFSETTO:-0600
TZNAME:CST
DTSTART:20271107T070000
END:STANDARD
END:VTIMEZONE
BEGIN:VEVENT
DTSTART;TZID=America/Chicago:20260413T190000
DTEND;TZID=America/Chicago:20260413T210000
DTSTAMP:20260419T214015
CREATED:20200828T124913Z
LAST-MODIFIED:20260313T143834Z
UID:2749-1776106800-1776114000@muskegowomansclub.org
SUMMARY:Club Meeting
DESCRIPTION:You are encouraged to come 30-45 minutes early for social time.  Meetings are in-person unless video is specified.
URL:https://muskegowomansclub.org/event/club-meeting/
LOCATION:Muskego Public Library\, S73 W16663 Janesville Road\, Muskego\, WI\, 53150\, United States
CATEGORIES:Club Meeting
END:VEVENT
BEGIN:VEVENT
DTSTART;TZID=America/Chicago:20260406T183000
DTEND;TZID=America/Chicago:20260406T203000
DTSTAMP:20260419T214015
CREATED:20200903T224332Z
LAST-MODIFIED:20260313T145138Z
UID:2800-1775500200-1775507400@muskegowomansclub.org
SUMMARY:The Next Board Meeting
DESCRIPTION:The next board meeting is planned to be in person.  A video link will be available only if inclement weather is underway. Contact us if you need a link.
URL:https://muskegowomansclub.org/event/board-meeting-4/
LOCATION:Muskego City Hall\, W182 S8200 Racine Av\, Muskego\, WI\, 53150\, United States
END:VEVENT
END:VCALENDAR